BEGIN:VCALENDAR
VERSION:2.0
PRODID:-//Trinity Lutheran Church - ECPv6.15.20//NONSGML v1.0//EN
CALSCALE:GREGORIAN
METHOD:PUBLISH
X-WR-CALNAME:Trinity Lutheran Church
X-ORIGINAL-URL:https://trinitylutherannh.org
X-WR-CALDESC:Events for Trinity Lutheran Church
REFRESH-INTERVAL;VALUE=DURATION:PT1H
X-Robots-Tag:noindex
X-PUBLISHED-TTL:PT1H
BEGIN:VTIMEZONE
TZID:America/New_York
BEGIN:DAYLIGHT
TZOFFSETFROM:-0500
TZOFFSETTO:-0400
TZNAME:EDT
DTSTART:20210314T070000
END:DAYLIGHT
BEGIN:STANDARD
TZOFFSETFROM:-0400
TZOFFSETTO:-0500
TZNAME:EST
DTSTART:20211107T060000
END:STANDARD
BEGIN:DAYLIGHT
TZOFFSETFROM:-0500
TZOFFSETTO:-0400
TZNAME:EDT
DTSTART:20220313T070000
END:DAYLIGHT
BEGIN:STANDARD
TZOFFSETFROM:-0400
TZOFFSETTO:-0500
TZNAME:EST
DTSTART:20221106T060000
END:STANDARD
BEGIN:DAYLIGHT
TZOFFSETFROM:-0500
TZOFFSETTO:-0400
TZNAME:EDT
DTSTART:20230312T070000
END:DAYLIGHT
BEGIN:STANDARD
TZOFFSETFROM:-0400
TZOFFSETTO:-0500
TZNAME:EST
DTSTART:20231105T060000
END:STANDARD
BEGIN:DAYLIGHT
TZOFFSETFROM:-0500
TZOFFSETTO:-0400
TZNAME:EDT
DTSTART:20240310T070000
END:DAYLIGHT
BEGIN:STANDARD
TZOFFSETFROM:-0400
TZOFFSETTO:-0500
TZNAME:EST
DTSTART:20241103T060000
END:STANDARD
END:VTIMEZONE
BEGIN:VEVENT
DTSTART;TZID=America/New_York:20231210T133000
DTEND;TZID=America/New_York:20231210T153000
DTSTAMP:20260424T113727
CREATED:20231119T211331Z
LAST-MODIFIED:20231119T211331Z
UID:2652-1702215000-1702222200@trinitylutherannh.org
SUMMARY:Pizza and Handel's "Messiah" Performance
DESCRIPTION:Join us for a pizza lunch at church and field trip to Handel’s “Messiah” at Yale’s Battell Chapel.  Singalong performance of the holiday favorite with the Yale Glee Club and Yale Symphony Orchestra.  $10 Donation supports ministries for the unhoused in New Haven.
URL:https://trinitylutherannh.org/event/pizza-and-handels-messiah-performance/
CATEGORIES:Music
ATTACH;FMTTYPE=image/png:https://trinitylutherannh.org/wp-content/uploads/2023/11/Messiah.png
END:VEVENT
BEGIN:VEVENT
DTSTART;TZID=America/New_York:20231029T101500
DTEND;TZID=America/New_York:20231029T130000
DTSTAMP:20260424T113727
CREATED:20220519T224625Z
LAST-MODIFIED:20231023T134930Z
UID:1702-1698574500-1698584400@trinitylutherannh.org
SUMMARY:Reformation Day 2023 and Potluck
DESCRIPTION:Join us for our special Reformation Day service\, followed by a Reformation luncheon in our upstairs auditorium.  Kielbasa and sausage provided\, RSVP to the church office and bring a side dish\, salad\, or dessert to share.
URL:https://trinitylutherannh.org/event/reformation-day-2022/
LOCATION:Trinity Lutheran Church\, 292 Orange Street\, New Haven\, CT\, 06510\, United States
CATEGORIES:Special Service
ATTACH;FMTTYPE=image/jpeg:https://trinitylutherannh.org/wp-content/uploads/2023/10/qtq80-KiFgup.jpeg
ORGANIZER;CN="Trinity Lutheran Church":MAILTO:office@trinitylutherannh.org
END:VEVENT
BEGIN:VEVENT
DTSTART;TZID=America/New_York:20230903T090000
DTEND;TZID=America/New_York:20230903T100000
DTSTAMP:20260424T113727
CREATED:20220627T192711Z
LAST-MODIFIED:20230828T133958Z
UID:2140-1693731600-1693735200@trinitylutherannh.org
SUMMARY:Sunday Morning Bible Study
DESCRIPTION:Join us in the Church Parlor before worship for a discussion of the day’s appointed Scripture lessons.  All welcome!
URL:https://trinitylutherannh.org/event/sunday-morning-bible-study/
LOCATION:Trinity Lutheran Church\, 292 Orange Street\, New Haven\, CT\, 06510\, United States
CATEGORIES:Bible Study
ATTACH;FMTTYPE=image/jpeg:https://trinitylutherannh.org/wp-content/uploads/2022/06/qtq80-dU5ccf.jpeg
ORGANIZER;CN="Trinity Lutheran Church":MAILTO:office@trinitylutherannh.org
END:VEVENT
BEGIN:VEVENT
DTSTART;TZID=America/New_York:20230827T101500
DTEND;TZID=America/New_York:20230827T113000
DTSTAMP:20260424T113727
CREATED:20220906T170714Z
LAST-MODIFIED:20230724T150220Z
UID:2273-1693131300-1693135800@trinitylutherannh.org
SUMMARY:Blessing of the Backpacks
DESCRIPTION:Bring your school backpacks to church\, and during the children’s message you’ll receive a blessing and a keepsake to remind you of God’s love for you\, all year long!
URL:https://trinitylutherannh.org/event/blessing-of-the-backpacks/
CATEGORIES:Special Service
ATTACH;FMTTYPE=image/jpeg:https://trinitylutherannh.org/wp-content/uploads/2022/09/qtq80-QJvZ1q.jpeg
END:VEVENT
BEGIN:VEVENT
DTSTART;TZID=America/New_York:20230604T113000
DTEND;TZID=America/New_York:20230604T130000
DTSTAMP:20260424T113727
CREATED:20220803T170737Z
LAST-MODIFIED:20230530T125639Z
UID:2250-1685878200-1685883600@trinitylutherannh.org
SUMMARY:Trinity Lunch and Learn
DESCRIPTION:New at Trinity this Fall… \nTrinity Lunch and Learn  \n+ Gather with other families one Sunday a month\, upstairs after worship. \n+ Bring a bag lunch \n+ Learning our Faith\, fun hands-on activities\, and cross-generational conversations for ages 0-100! Crafts\, skits\, discussion\, sharing\, learn and be inspired by others! \n+ Join us for a time of fellowship\, fun\, and growing in faith! \n  \nThis year we’ll be focusing on the Apostles’ Creed… \n  \nRSVP to Pastor Mills
URL:https://trinitylutherannh.org/event/family-lunch-and-learn/
CATEGORIES:Community
ATTACH;FMTTYPE=image/jpeg:https://trinitylutherannh.org/wp-content/uploads/2022/08/lunch-and-learn.jpg
END:VEVENT
BEGIN:VEVENT
DTSTART;TZID=America/New_York:20221225T101500
DTEND;TZID=America/New_York:20221225T113000
DTSTAMP:20260424T113727
CREATED:20221207T142658Z
LAST-MODIFIED:20221207T142658Z
UID:2376-1671963300-1671967800@trinitylutherannh.org
SUMMARY:Christmas Day Service of Holy Communion
DESCRIPTION:Just us Sunday\, December 25 at 10:15 a.m. for a Festive Christmas Day Service of Holy Communion.
URL:https://trinitylutherannh.org/event/christmas-day-service-of-holy-communion/
CATEGORIES:Special Service
ATTACH;FMTTYPE=image/jpeg:https://trinitylutherannh.org/wp-content/uploads/2022/12/nativity-icon-2.jpg
END:VEVENT
BEGIN:VEVENT
DTSTART;TZID=America/New_York:20220911T090000
DTEND;TZID=America/New_York:20220911T113000
DTSTAMP:20260424T113727
CREATED:20220628T143533Z
LAST-MODIFIED:20220628T143636Z
UID:2171-1662886800-1662895800@trinitylutherannh.org
SUMMARY:Rally Sunday 2022
DESCRIPTION:Join us for Rally Sunday\, September 11\, 2022. \nSunday School Resumes at 9 a.m.\, with Adult Bible Study. \n“God’s Work\, Our Hands” Community Service Activities follow in the afternoon.
URL:https://trinitylutherannh.org/event/rally-suday-2022/
LOCATION:Trinity Lutheran Church\, 292 Orange Street\, New Haven\, CT\, 06510\, United States
CATEGORIES:Special Service
ATTACH;FMTTYPE=image/jpeg:https://trinitylutherannh.org/wp-content/uploads/2022/06/qtq80-YTQufw.jpeg
ORGANIZER;CN="Trinity Lutheran Church":MAILTO:office@trinitylutherannh.org
END:VEVENT
END:VCALENDAR